BEGIN:VCALENDAR
VERSION:2.0
PRODID:-//Squarespace Inc/Squarespace 6//v6//EN
BEGIN:VEVENT
UID:617969cd95b3f11aa3188146@squarespace.com
DTSTAMP:20211115T170858Z
DTSTART:20211116T010000Z
DTEND:20211116T030000Z
SUMMARY:New Haven\, CT: Confessions Book Tour Event
GEO:41.306003;-72.923596
LOCATION:The Trinity Bar & Restaurant\, 157 Orange Street\, New Haven\, CT\
 , 06510\, United States
END:VEVENT
END:VCALENDAR
