BEGIN:VCALENDAR
VERSION:2.0
PRODID:-//Squarespace Inc/Squarespace 6//v6//EN
BEGIN:VEVENT
UID:6170518370bda5795b036774@squarespace.com
DTSTAMP:20211029T151519Z
DTSTART:20211110T023000Z
DTEND:20211110T043000Z
SUMMARY:Redding\, CA: Confessions Book Tour Event
GEO:40.585873;-122.39256
LOCATION:Shasta Living Streets\, 1313 California Street\, Redding\, CA\, 96
 001\, United States
END:VEVENT
END:VCALENDAR
