BEGIN:VCALENDAR
VERSION:2.0
PRODID:-//Squarespace Inc/Squarespace 6//v6//EN
BEGIN:VEVENT
UID:62446d320dc6ce01ed321fc7@squarespace.com
DTSTAMP:20220330T145753Z
DTSTART:20220408T133000Z
DTEND:20220408T171500Z
SUMMARY:2022 Housing Summit: Housing Coalition Of the Northern Shenandoah V
 alley
GEO:46.35693;-94.188315
LOCATION:Online Zoom Event
END:VEVENT
END:VCALENDAR
