BEGIN:VCALENDAR
VERSION:2.0
PRODID:-//Squarespace Inc/Squarespace 6//v6//EN
BEGIN:VEVENT
UID:61d5bae95ae043525cd4c692@squarespace.com
DTSTAMP:20220110T152116Z
DTSTART:20220110T150000Z
DTEND:20220110T160000Z
SUMMARY:Reddit Ask Me Anything
GEO:46.356803;-94.185502
LOCATION:Strong Towns\, 1511 Northern Pacific Rd\, Brainerd\, MN\, 56401
END:VEVENT
END:VCALENDAR
