BEGIN:VCALENDAR
VERSION:2.0
PRODID:-//Squarespace Inc/Squarespace 6//v6//EN
BEGIN:VEVENT
UID:6317cbaf7be7ce7434603c82@squarespace.com
DTSTAMP:20220906T225152Z
DTSTART:20221005T230000Z
DTEND:20221008T000000Z
SUMMARY:Salt Lake City\, UT: Utah League of Cities and Towns Annual Convent
 ion
GEO:40.755859;-111.893964
LOCATION:Salt Palace Convention Center\, 100 South West Temple Street\, Sal
 t Lake City\, UT\, 84101\, United States
END:VEVENT
END:VCALENDAR
