BEGIN:VCALENDAR
VERSION:2.0
PRODID:-//Squarespace Inc/Squarespace 6//v6//EN
BEGIN:VEVENT
UID:6310ba706c902570d3e42fa0@squarespace.com
DTSTAMP:20220901T152831Z
DTSTART:20221005T184500Z
DTEND:20221007T194500Z
SUMMARY:San Antonio\, TX: Texas Municipal League Annual Conference
GEO:29.42151;-98.483818
LOCATION:Grand Hyatt San Antonio River Walk\, 600 East Market Street\, San 
 Antonio\, TX\, 78205\, United States
END:VEVENT
END:VCALENDAR
