BEGIN:VCALENDAR
VERSION:2.0
PRODID:-//Squarespace Inc/Squarespace 6//v6//EN
BEGIN:VEVENT
UID:61f961db8774fb43f6d2a761@squarespace.com
DTSTAMP:20220201T230505Z
DTSTART:20220218T010000Z
DTEND:20220218T020000Z
SUMMARY:"Owned" Film Discussion (Virtual)
GEO:36.048671;-95.905022
LOCATION:Online
END:VEVENT
END:VCALENDAR
