BEGIN:VCALENDAR
VERSION:2.0
PRODID:-//Squarespace Inc/Squarespace 6//v6//EN
BEGIN:VEVENT
UID:61e6f1f8bf2760551672b6fe@squarespace.com
DTSTAMP:20220118T171412Z
DTSTART:20220203T010000Z
DTEND:20220203T020000Z
SUMMARY:Helena\, MT: Confessions Book Tour Presentation
GEO:46.594835;-112.04043
LOCATION:Helena Civic Center\, 340 Neill Avenue\, Helena\, MT\, 59601\, Uni
 ted States
END:VEVENT
END:VCALENDAR
