BEGIN:VCALENDAR
VERSION:2.0
PRODID:-//Squarespace Inc/Squarespace 6//v6//EN
BEGIN:VEVENT
UID:62a767cb74d631379bb78fc2@squarespace.com
DTSTAMP:20220613T183105Z
DTSTART:20220621T233000Z
DTEND:20220622T003000Z
SUMMARY:Winona\, MN: Curbside Chat
GEO:44.050689;-91.639377
LOCATION:Winona Friendship Center\, 251 Main Street\, Winona\, MN\, 55987\, 
 United States
END:VEVENT
END:VCALENDAR
