BEGIN:VCALENDAR
VERSION:2.0
PRODID:-//Squarespace Inc/Squarespace 6//v6//EN
BEGIN:VEVENT
UID:62bf3aeba54ebb5d8c13681a@squarespace.com
DTSTAMP:20220705T162246Z
DTSTART:20220714T170000Z
DTEND:20220714T180000Z
SUMMARY:Webinar: Community Action Lab Info Session
GEO:46.357279;-94.187987
LOCATION:Virtual (Zoom)
END:VEVENT
END:VCALENDAR
