BEGIN:VCALENDAR
VERSION:2.0
PRODID:-//Squarespace Inc/Squarespace 6//v6//EN
BEGIN:VEVENT
UID:62bc9b84a81cdf2bb99a930e@squarespace.com
DTSTAMP:20220706T194110Z
DTSTART:20220707T223000Z
DTEND:20220707T233000Z
SUMMARY:Port Washington\, WI: Strong Towns Presentation
GEO:43.387775;-87.87496
LOCATION:W.J. Niederkorn Library\, 316 West Grand Avenue\, Port Washington\
 , WI\, 53074\, United States
END:VEVENT
END:VCALENDAR
