BEGIN:VCALENDAR
VERSION:2.0
PRODID:-//Squarespace Inc/Squarespace 6//v6//EN
BEGIN:VEVENT
UID:63bd9367cc227740958ba67b@squarespace.com
DTSTAMP:20230203T184010Z
DTSTART:20230125T180000Z
DTEND:20230125T190000Z
SUMMARY:Open Office Hours Webinar: Chuck Marohn &amp\; The Strong Towns App
 roach
GEO:46.352673;-94.202008
LOCATION:Online Zoom Event
END:VEVENT
END:VCALENDAR
