BEGIN:VCALENDAR
VERSION:2.0
PRODID:-//Squarespace Inc/Squarespace 6//v6//EN
BEGIN:VEVENT
UID:63c97f05fb7e9162e7d2690e@squarespace.com
DTSTAMP:20230203T183726Z
DTSTART:20230201T180000Z
DTEND:20230201T190000Z
SUMMARY:Open Office Hours Webinar: Engage Local Government Effectively with 
 Edward Erfurt
GEO:46.352673;-94.202008
LOCATION:Online Zoom Event
END:VEVENT
END:VCALENDAR
