BEGIN:VCALENDAR
VERSION:2.0
PRODID:-//Squarespace Inc/Squarespace 6//v6//EN
BEGIN:VEVENT
UID:63dd66f6495a4548849d3930@squarespace.com
DTSTAMP:20230203T214126Z
DTSTART:20230208T180000Z
DTEND:20230208T190000Z
SUMMARY:Office Hours Webinar: Starting a Local Conversations group where yo
 u live with John Pattison
GEO:46.352673;-94.202008
LOCATION:Online Zoom Event
END:VEVENT
END:VCALENDAR
