BEGIN:VCALENDAR
VERSION:2.0
PRODID:-//Squarespace Inc/Squarespace 6//v6//EN
BEGIN:VEVENT
UID:63c9836c574e1a5fda0080fc@squarespace.com
DTSTAMP:20230203T214248Z
DTSTART:20230215T180000Z
DTEND:20230215T190000Z
SUMMARY:Office Hours Webinar: Zoning Reform for a Stronger Future with Dani
 el Herriges
GEO:46.352673;-94.202008
LOCATION:Online Zoom Event
END:VEVENT
END:VCALENDAR
