BEGIN:VCALENDAR
VERSION:2.0
PRODID:-//Squarespace Inc/Squarespace 6//v6//EN
BEGIN:VEVENT
UID:63c9836e03a2120ed97405d7@squarespace.com
DTSTAMP:20230203T214327Z
DTSTART:20230222T180000Z
DTEND:20230222T190000Z
SUMMARY:Open Office Hours Webinar: Making Parents Strong Towns-Aware with R
 achel Quednau
GEO:46.352673;-94.202008
LOCATION:Online Zoom Event
END:VEVENT
END:VCALENDAR
