BEGIN:VCALENDAR
VERSION:2.0
PRODID:-//Squarespace Inc/Squarespace 6//v6//EN
BEGIN:VEVENT
UID:63fcfa7435d13c2d5d12e619@squarespace.com
DTSTAMP:20230227T184833Z
DTSTART:20230308T180000Z
DTEND:20230308T190000Z
SUMMARY:Office Hours Webinar: Strong Towns &amp\; Faith Communities\, Norm 
 Van Eeden Petersman
GEO:46.352673;-94.202008
LOCATION:Online Zoom Event
END:VEVENT
END:VCALENDAR
