BEGIN:VCALENDAR
VERSION:2.0
PRODID:-//Squarespace Inc/Squarespace 6//v6//EN
BEGIN:VEVENT
UID:6435776c4f359f04367eea32@squarespace.com
DTSTAMP:20230411T150936Z
DTSTART:20230426T170000Z
DTEND:20230426T180000Z
SUMMARY:Office Hours Webinar: Chuck Marohn\, "Strong Cities"
GEO:46.352673;-94.202008
LOCATION:Online Zoom Event
END:VEVENT
END:VCALENDAR
