BEGIN:VCALENDAR
VERSION:2.0
PRODID:-//Squarespace Inc/Squarespace 6//v6//EN
BEGIN:VEVENT
UID:643575ee8ea7591502b2f3cc@squarespace.com
DTSTAMP:20230411T151004Z
DTSTART:20230412T170000Z
DTEND:20230412T180000Z
SUMMARY:Office Hours Webinar: John Reuter\, "I got on a local committee... 
 now what?"
GEO:46.352673;-94.202008
LOCATION:Online Zoom Event
END:VEVENT
END:VCALENDAR
