BEGIN:VCALENDAR
VERSION:2.0
PRODID:-//Squarespace Inc/Squarespace 6//v6//EN
BEGIN:VEVENT
UID:64246bc817c32c5d8e19ce0c@squarespace.com
DTSTAMP:20230411T145958Z
DTSTART:20230405T170000Z
DTEND:20230405T180000Z
SUMMARY:Office Hours Webinar: Daniel Herriges\, Unleash the Swarm of Small 
 Scale Development
GEO:46.352673;-94.202008
LOCATION:Online Zoom Event
END:VEVENT
END:VCALENDAR
