BEGIN:VCALENDAR
VERSION:2.0
PRODID:-//Squarespace Inc/Squarespace 6//v6//EN
BEGIN:VEVENT
UID:63fcfcb98229b54e1b088bb2@squarespace.com
DTSTAMP:20230329T164808Z
DTSTART:20230329T170000Z
DTEND:20230329T180000Z
SUMMARY:Office Hours Webinar: Edward Erfurt\, Pushing for Better Policy
GEO:46.352673;-94.202008
LOCATION:Online Zoom Event
END:VEVENT
END:VCALENDAR
