BEGIN:VCALENDAR
VERSION:2.0
PRODID:-//Squarespace Inc/Squarespace 6//v6//EN
BEGIN:VEVENT
UID:63fcfc02b9cc9e3b305761e5@squarespace.com
DTSTAMP:20230227T185553Z
DTSTART:20230322T170000Z
DTEND:20230322T180000Z
SUMMARY:Office Hours Webinar: Lauren Fisher\, Effective Local Messaging
GEO:46.352673;-94.202008
LOCATION:Online Zoom Event
END:VEVENT
END:VCALENDAR
