BEGIN:VCALENDAR
VERSION:2.0
PRODID:-//Squarespace Inc/Squarespace 6//v6//EN
BEGIN:VEVENT
UID:63fcfb5f5fcaf77ffb1ab53a@squarespace.com
DTSTAMP:20230227T185954Z
DTSTART:20230315T170000Z
DTEND:20230315T180000Z
SUMMARY:Office Hours Webinar: Andrew Burleson\, How Will We Change Everythi
 ng?
GEO:46.352673;-94.202008
LOCATION:Online Zoom Event
END:VEVENT
END:VCALENDAR
