BEGIN:VCALENDAR
VERSION:2.0
PRODID:-//Squarespace Inc/Squarespace 6//v6//EN
BEGIN:VEVENT
UID:63fce748642c51318979b5a5@squarespace.com
DTSTAMP:20230227T184612Z
DTSTART:20230301T180000Z
DTEND:20230301T190000Z
SUMMARY:Office Hours Webinar: Chuck Marohn\, Lessons for Small Communities
GEO:46.352673;-94.202008
LOCATION:Online Zoom Event
END:VEVENT
END:VCALENDAR
