BEGIN:VCALENDAR
VERSION:2.0
PRODID:-//Squarespace Inc/Squarespace 6//v6//EN
BEGIN:VEVENT
UID:640f2f4a3e98d76ca56960e3@squarespace.com
DTSTAMP:20230313T141810Z
DTSTART:20230324T161500Z
DTEND:20230324T171500Z
SUMMARY:Crash Analysis Studio: Session 3
GEO:46.352673;-94.202008
LOCATION:Online Zoom Event
END:VEVENT
END:VCALENDAR
