BEGIN:VCALENDAR
VERSION:2.0
PRODID:-//Squarespace Inc/Squarespace 6//v6//EN
BEGIN:VEVENT
UID:63ee6417ba9c24214467c615@squarespace.com
DTSTAMP:20230313T141226Z
DTSTART:20230303T190000Z
DTEND:20230303T200000Z
SUMMARY:Crash Analysis Studio: Session 2
GEO:46.352673;-94.202008
LOCATION:Online Zoom Event
END:VEVENT
END:VCALENDAR
