BEGIN:VCALENDAR
VERSION:2.0
PRODID:-//Squarespace Inc/Squarespace 6//v6//EN
BEGIN:VEVENT
UID:641b4cbe1ee63f27549bf312@squarespace.com
DTSTAMP:20230417T131246Z
DTSTART:20230429T041500Z
DTEND:20230429T051500Z
SUMMARY:Crash Analysis Studio: Session 4
GEO:46.352673;-94.202008
LOCATION:Online Zoom Event
END:VEVENT
END:VCALENDAR
