BEGIN:VCALENDAR
VERSION:2.0
PRODID:-//Squarespace Inc/Squarespace 6//v6//EN
BEGIN:VEVENT
UID:641b4d817988ea64bd46599a@squarespace.com
DTSTAMP:20230505T195217Z
DTSTART:20230526T170000Z
DTEND:20230526T180000Z
SUMMARY:Crash Analysis Studio Session 5: Bradenton\, Florida
GEO:46.352673;-94.202008
LOCATION:Online Zoom Event
END:VEVENT
END:VCALENDAR
