BEGIN:VCALENDAR
VERSION:2.0
PRODID:-//Squarespace Inc/Squarespace 6//v6//EN
BEGIN:VEVENT
UID:5e7cf15ac0af1e6f78a9d54b@squarespace.com
DTSTAMP:20200326T182240Z
DTSTART:20200416T170000Z
DTEND:20200416T180000Z
SUMMARY:Ask Me Anything: A Weekly Conversation with Charles Marohn
END:VEVENT
END:VCALENDAR
