BEGIN:VCALENDAR
VERSION:2.0
PRODID:-//Squarespace Inc/Squarespace 6//v6//EN
BEGIN:VEVENT
UID:5e7cf258e1b54f58a4fae046@squarespace.com
DTSTAMP:20200326T200327Z
DTSTART:20200423T170000Z
DTEND:20200423T180000Z
SUMMARY:Ask Me Anything: A Weekly Conversation with Charles Marohn
END:VEVENT
END:VCALENDAR
