BEGIN:VCALENDAR
VERSION:2.0
PRODID:-//Squarespace Inc/Squarespace 6//v6//EN
BEGIN:VEVENT
UID:5e7cdc091a0a3218def64862@squarespace.com
DTSTAMP:20200326T200214Z
DTSTART:20200402T170000Z
DTEND:20200402T180000Z
SUMMARY:Ask Me Anything: A Weekly Conversation with Charles Marohn
END:VEVENT
END:VCALENDAR
