BEGIN:VCALENDAR
VERSION:2.0
PRODID:-//Squarespace Inc/Squarespace 6//v6//EN
BEGIN:VEVENT
UID:5e908b00f9d6f43095846171@squarespace.com
DTSTAMP:20200410T150917Z
DTSTART:20200430T200000Z
DTEND:20200430T220000Z
SUMMARY:Ask Me Anything: A Weekly Conversation with Charles Marohn (with Qu
 int Studer)
END:VEVENT
END:VCALENDAR
