BEGIN:VCALENDAR
VERSION:2.0
PRODID:-//Squarespace Inc/Squarespace 6//v6//EN
BEGIN:VEVENT
UID:5e7cf0a1db9bcb7f4f25efca@squarespace.com
DTSTAMP:20200405T012435Z
DTSTART:20200409T170000Z
DTEND:20200409T180000Z
SUMMARY:Ask Me Anything: A Weekly Conversation with Charles Marohn
END:VEVENT
END:VCALENDAR
