BEGIN:VCALENDAR
VERSION:2.0
PRODID:-//Squarespace Inc/Squarespace 6//v6//EN
BEGIN:VEVENT
UID:60f5fc3f9bd23d60556847b1@squarespace.com
DTSTAMP:20210820T200750Z
DTSTART:20210831T230000Z
DTEND:20210901T010000Z
SUMMARY:Austin\, TX: Confessions Book Tour Event
GEO:30.265928;-97.75176
LOCATION:Austin Central Library\, 710 W Cesar Chavez St\, Austin\, TX 78701
END:VEVENT
END:VCALENDAR
