BEGIN:VCALENDAR
VERSION:2.0
PRODID:-//Squarespace Inc/Squarespace 6//v6//EN
BEGIN:VEVENT
UID:615ca1eabec7213860999cfc@squarespace.com
DTSTAMP:20211008T150939Z
DTSTART:20211109T030000Z
DTEND:20211109T050000Z
SUMMARY:Bend\, OR: Confessions Book Tour Presentation
GEO:44.058173;-121.31531
LOCATION:Bend\, OR
END:VEVENT
END:VCALENDAR
