BEGIN:VCALENDAR
VERSION:2.0
PRODID:-//Squarespace Inc/Squarespace 6//v6//EN
BEGIN:VEVENT
UID:6213bd613f76f52720c6ec47@squarespace.com
DTSTAMP:20220308T170259Z
DTSTART:20220406T153000Z
DTEND:20220408T163000Z
SUMMARY:Billings\, MT: 13th Annual Montana Downtown &amp\; Main Street Conf
 erence
GEO:45.783286;-108.50069
LOCATION:Billings\, MT
END:VEVENT
END:VCALENDAR
