BEGIN:VCALENDAR
VERSION:2.0
PRODID:-//Squarespace Inc/Squarespace 6//v6//EN
BEGIN:VEVENT
UID:60f603d78967722b0b8e3c35@squarespace.com
DTSTAMP:20210811T220908Z
DTSTART:20210908T210000Z
DTEND:20210908T230000Z
SUMMARY:Brainerd\, MN: Confessions Book Tour Event
GEO:46.355958;-94.200054
LOCATION:CatTale's Books & Gifts\, 609 Laurel St\, Brainerd\, MN 56401
END:VEVENT
END:VCALENDAR
