BEGIN:VCALENDAR
VERSION:2.0
PRODID:-//Squarespace Inc/Squarespace 6//v6//EN
BEGIN:VEVENT
UID:621e2e49768821153a317ff7@squarespace.com
DTSTAMP:20220301T144439Z
DTSTART:20220331T230000Z
DTEND:20220401T010000Z
SUMMARY:Brookings\, SD: A Bottom Up Revolution to Rebuild American Prosperi
 ty
GEO:44.30755;-96.795834
LOCATION:Brookings City Hall\, 520 3rd Street\, Brookings\, SD\, 57006\, Un
 ited States
END:VEVENT
END:VCALENDAR
