BEGIN:VCALENDAR
VERSION:2.0
PRODID:-//Squarespace Inc/Squarespace 6//v6//EN
BEGIN:VEVENT
UID:63348335ca19d930d72a0d1b@squarespace.com
DTSTAMP:20221005T182742Z
DTSTART:20221011T150000Z
DTEND:20221011T160000Z
SUMMARY:Champaign\, IL: Strong Towns Events
END:VEVENT
END:VCALENDAR
