BEGIN:VCALENDAR
VERSION:2.0
PRODID:-//Squarespace Inc/Squarespace 6//v6//EN
BEGIN:VEVENT
UID:64186c9cdb3a1330ef0c77e3@squarespace.com
DTSTAMP:20230403T175533Z
DTSTART:20230502T223000Z
DTEND:20230503T000000Z
SUMMARY:Chisholm\, MN: Strong Towns Event #1
GEO:47.489089;-92.884888
LOCATION:Chisholm Senior Citizens Center\, 319 West Lake Street\, Chisholm\
 , MN\, 55719\, United States
END:VEVENT
END:VCALENDAR
