BEGIN:VCALENDAR
VERSION:2.0
PRODID:-//Squarespace Inc/Squarespace 6//v6//EN
BEGIN:VEVENT
UID:62a23bf4f9e43f0683475cca@squarespace.com
DTSTAMP:20220609T183742Z
DTSTART:20220617T010000Z
DTEND:20220617T020000Z
SUMMARY:Citrus Heights\, CA: Confessions of a Recovering Engineer
GEO:38.680336;-121.297466
LOCATION:Citrus Heights Community Center\, 6300 Fountain Square Drive\, Cit
 rus Heights\, CA\, 95621\, United States
END:VEVENT
END:VCALENDAR
