BEGIN:VCALENDAR
VERSION:2.0
PRODID:-//Squarespace Inc/Squarespace 6//v6//EN
BEGIN:VEVENT
UID:620d2e2ac6df2348369b460e@squarespace.com
DTSTAMP:20220216T184949Z
DTSTART:20220304T000000Z
DTEND:20220304T010000Z
SUMMARY:Pensacola\, FL: CivicCon: Strong Towns Transportation Approach
GEO:30.412982;-87.218868
LOCATION:Studer Community Institute\, 220 West Garden Street\, Pensacola\, 
 FL\, 32502\, United States
END:VEVENT
END:VCALENDAR
