BEGIN:VCALENDAR
VERSION:2.0
PRODID:-//Squarespace Inc/Squarespace 6//v6//EN
BEGIN:VEVENT
UID:6398d2055629f757a391a970@squarespace.com
DTSTAMP:20221213T193445Z
DTSTART:20230119T230000Z
DTEND:20230120T010000Z
SUMMARY:Clermont\, FL: Strong Towns Townhall Event #2
GEO:28.511639;-81.727607
LOCATION:Clermont Arts & Recreation Center\, 3700 South Highway 27\, Clermo
 nt\, FL\, 34711\, United States
END:VEVENT
END:VCALENDAR
