BEGIN:VCALENDAR
VERSION:2.0
PRODID:-//Squarespace Inc/Squarespace 6//v6//EN
BEGIN:VEVENT
UID:60f9df1fa82a040cde417274@squarespace.com
DTSTAMP:20210921T170511Z
DTSTART:20211006T230000Z
DTEND:20211007T010000Z
SUMMARY:Columbia\, MO: Curbside Chat
GEO:38.95078;-92.325359
LOCATION:RagTag Cinemas\, 10 Hitt St.\, Columbia\, MO 65201
END:VEVENT
END:VCALENDAR
