BEGIN:VCALENDAR
VERSION:2.0
PRODID:-//Squarespace Inc/Squarespace 6//v6//EN
BEGIN:VEVENT
UID:627aa72f985f6637335bc017@squarespace.com
DTSTAMP:20220511T211814Z
DTSTART:20220607T170000Z
DTEND:20220607T180000Z
SUMMARY:Webcast: Confessions of a Recovering Engineer
GEO:37.09024;-95.712891
LOCATION:Zoom (virtual)
END:VEVENT
END:VCALENDAR
