BEGIN:VCALENDAR
VERSION:2.0
PRODID:-//Squarespace Inc/Squarespace 6//v6//EN
BEGIN:VEVENT
UID:6166eb8c78620f4042a2c26f@squarespace.com
DTSTAMP:20211110T161630Z
DTSTART:20211119T230000Z
DTEND:20211120T010000Z
SUMMARY:Costa Mesa\, CA: Confessions Book Tour Event
GEO:33.641324;-117.921696
LOCATION:Norma Hertzog Community Center\, 1845 Park Avenue\, Costa Mesa\, C
 A\, 92627\, United States
END:VEVENT
END:VCALENDAR
