BEGIN:VCALENDAR
VERSION:2.0
PRODID:-//Squarespace Inc/Squarespace 6//v6//EN
BEGIN:VEVENT
UID:6363bdb2ab35d6598adca408@squarespace.com
DTSTAMP:20221103T132507Z
DTSTART:20221114T193000Z
DTEND:20221114T213000Z
SUMMARY:Crosby\, MN: Confessions Book Tour Event
GEO:46.478497;-93.966603
LOCATION:Crosby-Ironton High School\, 711 Poplar Street\, Crosby\, MN\, 564
 41\, United States
END:VEVENT
END:VCALENDAR
