BEGIN:VCALENDAR
VERSION:2.0
PRODID:-//Squarespace Inc/Squarespace 6//v6//EN
BEGIN:VEVENT
UID:630faa5207570e1b59ae52e9@squarespace.com
DTSTAMP:20220901T152900Z
DTSTART:20220929T180000Z
DTEND:20220929T190000Z
SUMMARY:Decoder Webinar: Fighting for Affordable Housing
GEO:46.352673;-94.202008
LOCATION:Zoom Online Event
END:VEVENT
END:VCALENDAR
