BEGIN:VCALENDAR
VERSION:2.0
PRODID:-//Squarespace Inc/Squarespace 6//v6//EN
BEGIN:VEVENT
UID:6318958c17c2877efcf875aa@squarespace.com
DTSTAMP:20220907T180620Z
DTSTART:20220921T130000Z
DTEND:20220921T140000Z
SUMMARY:Delta\, BC: Breaking Out Of The Housing Trap Presentation
GEO:49.089925;-123.086087
LOCATION:Ladner United Church\, 4960 48 Avenue\, Delta\, BC\, V4K 4X6\, Can
 ada
END:VEVENT
END:VCALENDAR
