BEGIN:VCALENDAR
VERSION:2.0
PRODID:-//Squarespace Inc/Squarespace 6//v6//EN
BEGIN:VEVENT
UID:622f91ec26ab42282b026ab2@squarespace.com
DTSTAMP:20220510T175559Z
DTSTART:20220512T193000Z
DTEND:20220512T203000Z
SUMMARY:Dover\, VT: Southern Vermont Economy Summit
GEO:42.966031;-72.894254
LOCATION:Mount Snow Grand Summit Resort\, 21 Grand Summit Way\, West Dover\
 , VT\, 05356\, United States
END:VEVENT
END:VCALENDAR
